Workbook
Name \A: #REF!
Name \A: #REF!
Name \A: #REF!
Name \A: #REF!
Name \A: #REF!
Name \B: #REF!
Name \B: #REF!
Name \B: #REF!
Name \B: #REF!
Name \B: #REF!
Name \C: #REF!
Name \C: #REF!
Name \C: #REF!
Name \C: #REF!
Name \C: #REF!
Name \D: #REF!
Name \D: #REF!
Name \D: #REF!
Name \D: #REF!
Name \D: #REF!
Name \E: #REF!
Name \E: #REF!
Name \E: #REF!
Name \E: #REF!
Name \E: #REF!
Name \F: #REF!
Name \F: #REF!
Name \F: #REF!
Name \F: #REF!
Name \F: #REF!
Name \G: #REF!
Name \G: #REF!
Name \G: #REF!
Name \G: #REF!
Name \G: #REF!
Name \H: #REF!
Name \H: #REF!
Name \H: #REF!
Name \H: #REF!
Name \H: #REF!
Name \J: #REF!
Name \J: #REF!
Name \J: #REF!
Name \J: #REF!
Name \J: #REF!
Name \K: #REF!
Name \K: #REF!
Name \K: #REF!
Name \K: #REF!
Name \K: #REF!
Name \L: #REF!
Name \L: #REF!
Name \L: #REF!
Name \P: #REF!
Name \P: #REF!
Name \P: #REF!
Name \Q: #REF!
Name \Q: #REF!
Name \Q: #REF!
Name \Q: #REF!

Sheet Summary
A1: NATIONAL ZOOLOGICAL GARDENS OF SOUTH AFRICA - PRETORIA
A3: REPTILE PARK - REPAIR AND RENOVATIONS
A6: SUMMARY OF SCHEDULES
A9: SCHEDULE | B9: DESCRIPTION | F9: AMOUNT
A12: SCHEDULE 1: | B12: PRELIMINARY AND GENERAL
A14: SCHEDULE 2: | B14: BUILDING WORKS
A16: SCHEDULE 3: | B16: PROVISIONAL SUMS
A52: SUB-TOTAL 1
A54: ADD: 10% CONTINGENCIES | D54: 0.05
A56: SUB-TOTAL 2
A58: ADD 15% VAT | D58: 0.15
A60: TOTAL AMOUNT CARRIED TO FORM OF OFFER AND ACCEPTANCE

Sheet P and Gs
A1: =Summary!A1 -> NATIONAL ZOOLOGICAL GARDENS OF SOUTH AFRICA - PRETORIA
A2: =Summary!A3 -> REPTILE PARK - REPAIR AND RENOVATIONS
A3: SCHEDULE 1 : PRELIMINARY AND GENERAL
A5: ITEM | B5: PAYM. | C5: DESCRIPTION | D5: UNIT | E5: QTY | F5: RATE | G5: AMOUNT
A6: NO. | B6: REF.
B8: SABS | C8: PRELIMINARY AND GENERAL
B9: 1200 A
A10: 1.1 | B10: 8.3
A11: 1.1.1 | B11: PSA 4.1 | C11: Contractual Requirements | D11: Sum | E11: 1 | G11: =IF(OR(AND(E11="Prov",F11="Sum"),(F11="PC Sum")),". . . . . . . . .00",IF(ISERR(E11*F11),"",IF(E11*F11=0,"",ROUND(E11*F11,2))))
G12: =IF(OR(AND(E12="Prov",F12="Sum"),(F12="PC Sum")),". . . . . . . . .00",IF(ISERR(E12*F12),"",IF(E12*F12=0,"",ROUND(E12*F12,2))))
A13: 1.1.2 | B13: 8.3.2 | C13: Establish facilities on the site | G13: =IF(OR(AND(E13="Prov",F13="Sum"),(F13="PC Sum")),". . . . . . . . .00",IF(ISERR(E13*F13),"",IF(E13*F13=0,"",ROUND(E13*F13,2))))
A15: 1.1.2.1 | B15: 8.3.2.1 | C15: i) Facilities for Engineer | G15: =IF(OR(AND(E15="Prov",F15="Sum"),(F15="PC Sum")),". . . . . . . . .00",IF(ISERR(E15*F15),"",IF(E15*F15=0,"",ROUND(E15*F15,2))))
B17: PSA 4.5 | C17: a) Furnished offices (1x) and meeting facility | D17: Sum | E17: 1 | G17: Rate Only
G18: =IF(OR(AND(E18="Prov",F18="Sum"),(F18="PC Sum")),". . . . . . . . .00",IF(ISERR(E18*F18),"",IF(E18*F18=0,"",ROUND(E18*F18,2))))
C19: b) Contract Name board | D19: Sum | E19: 1 | G19: =IF(OR(AND(E19="Prov",F19="Sum"),(F19="PC Sum")),". . . . . . . . .00",IF(ISERR(E19*F19),"",IF(E19*F19=0,"",ROUND(E19*F19,2))))
G20: =IF(OR(AND(E20="Prov",F20="Sum"),(F20="PC Sum")),". . . . . . . . .00",IF(ISERR(E20*F20),"",IF(E20*F20=0,"",ROUND(E20*F20,2))))
A21: 1.1.2.2 | B21: 8.3.2.2 | C21: ii) Facilities for Contractor | G21: =IF(OR(AND(E21="Prov",F21="Sum"),(F21="PC Sum")),". . . . . . . . .00",IF(ISERR(E21*F21),"",IF(E21*F21=0,"",ROUND(E21*F21,2))))
C23: a) Offices and storage sheds | D23: Sum | E23: 1 | G23: =IF(OR(AND(E23="Prov",F23="Sum"),(F23="PC Sum")),". . . . . . . . .00",IF(ISERR(E23*F23),"",IF(E23*F23=0,"",ROUND(E23*F23,2))))
G24: =IF(OR(AND(E24="Prov",F24="Sum"),(F24="PC Sum")),". . . . . . . . .00",IF(ISERR(E24*F24),"",IF(E24*F24=0,"",ROUND(E24*F24,2))))
C25: b) Workshops | D25: Sum | E25: 1 | G25: Rate Only
G26: =IF(OR(AND(E26="Prov",F26="Sum"),(F26="PC Sum")),". . . . . . . . .00",IF(ISERR(E26*F26),"",IF(E26*F26=0,"",ROUND(E26*F26,2))))
C27: c) Ablution and latrine facilities | D27: Sum | E27: 1 | G27: =IF(OR(AND(E27="Prov",F27="Sum"),(F27="PC Sum")),". . . . . . . . .00",IF(ISERR(E27*F27),"",IF(E27*F27=0,"",ROUND(E27*F27,2))))
G28: =IF(OR(AND(E28="Prov",F28="Sum"),(F28="PC Sum")),". . . . . . . . .00",IF(ISERR(E28*F28),"",IF(E28*F28=0,"",ROUND(E28*F28,2))))
C29: d) Tools and equipment | D29: Sum | E29: 1 | G29: =IF(OR(AND(E29="Prov",F29="Sum"),(F29="PC Sum")),". . . . . . . . .00",IF(ISERR(E29*F29),"",IF(E29*F29=0,"",ROUND(E29*F29,2))))
G30: =IF(OR(AND(E30="Prov",F30="Sum"),(F30="PC Sum")),". . . . . . . . .00",IF(ISERR(E30*F30),"",IF(E30*F30=0,"",ROUND(E30*F30,2))))
C31: e) Water supplies, electric power | G31: =IF(OR(AND(E31="Prov",F31="Sum"),(F31="PC Sum")),". . . . . . . . .00",IF(ISERR(E31*F31),"",IF(E31*F31=0,"",ROUND(E31*F31,2))))
C32: & communications | D32: Sum | E32: 1 | G32: =IF(OR(AND(E32="Prov",F32="Sum"),(F32="PC Sum")),". . . . . . . . .00",IF(ISERR(E32*F32),"",IF(E32*F32=0,"",ROUND(E32*F32,2))))
G33: =IF(OR(AND(E33="Prov",F33="Sum"),(F33="PC Sum")),". . . . . . . . .00",IF(ISERR(E33*F33),"",IF(E33*F33=0,"",ROUND(E33*F33,2))))
C34: f) Dealing with water | D34: Sum | E34: 1 | G34: Rate Only
G35: =IF(OR(AND(E35="Prov",F35="Sum"),(F35="PC Sum")),". . . . . . . . .00",IF(ISERR(E35*F35),"",IF(E35*F35=0,"",ROUND(E35*F35,2))))
C36: g) Access | D36: Sum | E36: 1 | G36: Rate Only
G37: =IF(OR(AND(E37="Prov",F37="Sum"),(F37="PC Sum")),". . . . . . . . .00",IF(ISERR(E37*F37),"",IF(E37*F37=0,"",ROUND(E37*F37,2))))
C38: h) Plant | D38: Sum | E38: 1 | G38: Rate Only
G39: =IF(OR(AND(E39="Prov",F39="Sum"),(F39="PC Sum")),". . . . . . . . .00",IF(ISERR(E39*F39),"",IF(E39*F39=0,"",ROUND(E39*F39,2))))
A40: 1.1.2.3 | B40: 8.3.4 | C40: Removal of Engineer's and Contractor's site establishment from site on completion of works. | G40: =IF(OR(AND(E40="Prov",F40="Sum"),(F40="PC Sum")),". . . . . . . . .00",IF(ISERR(E40*F40),"",IF(E40*F40=0,"",ROUND(E40*F40,2))))
D41: Sum | E41: 1 | G41: =IF(OR(AND(E41="Prov",F41="Sum"),(F41="PC Sum")),". . . . . . . . .00",IF(ISERR(E41*F41),"",IF(E41*F41=0,"",ROUND(E41*F41,2))))
G42: =IF(OR(AND(E42="Prov",F42="Sum"),(F42="PC Sum")),". . . . . . . . .00",IF(ISERR(E42*F42),"",IF(E42*F42=0,"",ROUND(E42*F42,2))))
A43: 1.2 | B43: 8.4 | C43: TIME RELATED ITEMS | G43: =IF(OR(AND(E43="Prov",F43="Sum"),(F43="PC Sum")),". . . . . . . . .00",IF(ISERR(E43*F43),"",IF(E43*F43=0,"",ROUND(E43*F43,2))))
A45: 1.2.1 | B45: PSA 4.2 | C45: Contractual requirements | D45: Sum | E45: 3 | G45: =IF(OR(AND(E45="Prov",F45="Sum"),(F45="PC Sum")),". . . . . . . . .00",IF(ISERR(E45*F45),"",IF(E45*F45=0,"",ROUND(E45*F45,2))))
G46: =IF(OR(AND(E46="Prov",F46="Sum"),(F46="PC Sum")),". . . . . . . . .00",IF(ISERR(E46*F46),"",IF(E46*F46=0,"",ROUND(E46*F46,2))))
...

Sheet Building Works Summary
A1: =Summary!A1 -> NATIONAL ZOOLOGICAL GARDENS OF SOUTH AFRICA - PRETORIA
A2: =Summary!A3 -> REPTILE PARK - REPAIR AND RENOVATIONS
A3: BUILDING WORKS
A5: SCHEDULE 2: SUMMARY OF BUILDING WORKS
A7: ITEM NO | B7: DESCRIPTION | C7: AMOUNT
A9: 2.1 | B9: Alterations
A11: 2.2 | B11: Concrete, Formwork and Reinforcement
A13: 2.3 | B13: Masonry
A15: 2.4 | B15: Waterproofing
A17: 2.5 | B17: Roof Coverings, etc
A19: 2.6 | B19: Carpentry and Joinery
A21: 2.7 | B21: Ceilings, Partitions and Access Flooring
A23: 2.8 | B23: Metalwork
A25: 2.9 | B25: Plastering
A27: 2.10 | B27: Plumbing and Drainage (Provisional)
A29: 2.11 | B29: Glazing
A31: 2.12 | B31: Paintwork
B40: Total Carried To Final Summary

Sheet Building Works
A1: ='Building Works Summary'!A1 -> NATIONAL ZOOLOGICAL GARDENS OF SOUTH AFRICA - PRETORIA
A2: ='Building Works Summary'!A2 -> REPTILE PARK - REPAIR AND RENOVATIONS
A3: SCHEDULE 2: BUILDING WORKS
A5: ITEM NO | B5: DESCRIPTION | C5: UNIT | D5: QTY | E5: RATE | F5: AMOUNT
B7: BILL NO. 1 | F7: =IF(OR(AND(D7="Prov",E7="Sum"),(E7="PC Sum")),". . . . . . . . .00",IF(ISERR(D7*E7),"",IF(D7*E7=0,"",ROUND(D7*E7,2))))
B9: ALTERATIONS | F9: =IF(OR(AND(D9="Prov",E9="Sum"),(E9="PC Sum")),". . . . . . . . .00",IF(ISERR(D9*E9),"",IF(D9*E9=0,"",ROUND(D9*E9,2))))
F10: =IF(OR(AND(D10="Prov",E10="Sum"),(E10="PC Sum")),". . . . . . . . .00",IF(ISERR(D10*E10),"",IF(D10*E10=0,"",ROUND(D10*E10,2))))
B11: PREAMBLES | F11: =IF(OR(AND(D11="Prov",E11="Sum"),(E11="PC Sum")),". . . . . . . . .00",IF(ISERR(D11*E11),"",IF(D11*E11=0,"",ROUND(D11*E11,2))))
F12: =IF(OR(AND(D12="Prov",E12="Sum"),(E12="PC Sum")),". . . . . . . . .00",IF(ISERR(D12*E12),"",IF(D12*E12=0,"",ROUND(D12*E12,2))))
B13: For preambles see 'Model Preambles for Trades, 2008 Edition as published by Association of South African Quantity Surveyors, SANS Standards and PW371 Specification of materials and methods to be used as Published by National Department of Public Works & Infrastructure | F13: =IF(OR(AND(D13="Prov",E13="Sum"),(E13="PC Sum")),". . . . . . . . .00",IF(ISERR(D13*E13),"",IF(D13*E13=0,"",ROUND(D13*E13,2))))
F14: =IF(OR(AND(D14="Prov",E14="Sum"),(E14="PC Sum")),". . . . . . . . .00",IF(ISERR(D14*E14),"",IF(D14*E14=0,"",ROUND(D14*E14,2))))
B15: REMOVAL OF EXISTING WORK | F15: =IF(OR(AND(D15="Prov",E15="Sum"),(E15="PC Sum")),". . . . . . . . .00",IF(ISERR(D15*E15),"",IF(D15*E15=0,"",ROUND(D15*E15,2))))
F16: =IF(OR(AND(D16="Prov",E16="Sum"),(E16="PC Sum")),". . . . . . . . .00",IF(ISERR(D16*E16),"",IF(D16*E16=0,"",ROUND(D16*E16,2))))
A17: 2.1.1 | B17: Breaking up and removing reinforced concrete, including cutting off and removing reinforcement | F17: =IF(OR(AND(D17="Prov",E17="Sum"),(E17="PC Sum")),". . . . . . . . .00",IF(ISERR(D17*E17),"",IF(D17*E17=0,"",ROUND(D17*E17,2))))
F18: =IF(OR(AND(D18="Prov",E18="Sum"),(E18="PC Sum")),". . . . . . . . .00",IF(ISERR(D18*E18),"",IF(D18*E18=0,"",ROUND(D18*E18,2))))
A19: 2.1.1.1 | B19: Concrete slabs | C19: m3 | D19: 1 | F19: =IF(OR(AND(D19="Prov",E19="Sum"),(E19="PC Sum")),". . . . . . . . .00",IF(ISERR(D19*E19),"",IF(D19*E19=0,"",ROUND(D19*E19,2))))
F20: =IF(OR(AND(D20="Prov",E20="Sum"),(E20="PC Sum")),". . . . . . . . .00",IF(ISERR(D20*E20),"",IF(D20*E20=0,"",ROUND(D20*E20,2))))
A21: 2.2.1 | B21: Taking down and removing roofs, floors, panelling, ceilings, partitions, etc. | F21: =IF(OR(AND(D21="Prov",E21="Sum"),(E21="PC Sum")),". . . . . . . . .00",IF(ISERR(D21*E21),"",IF(D21*E21=0,"",ROUND(D21*E21,2))))
F22: =IF(OR(AND(D22="Prov",E22="Sum"),(E22="PC Sum")),". . . . . . . . .00",IF(ISERR(D22*E22),"",IF(D22*E22=0,"",ROUND(D22*E22,2))))
A23: 2.1.2.1 | B23: Steel roof sheets including ridge capping from timber purlins | C23: m2 | D23: 54 | F23: =IF(OR(AND(D23="Prov",E23="Sum"),(E23="PC Sum")),". . . . . . . . .00",IF(ISERR(D23*E23),"",IF(D23*E23=0,"",ROUND(D23*E23,2))))
F24: =IF(OR(AND(D24="Prov",E24="Sum"),(E24="PC Sum")),". . . . . . . . .00",IF(ISERR(D24*E24),"",IF(D24*E24=0,"",ROUND(D24*E24,2))))
A25: 2.1.2.2 | B25: Ceilings from timber trusses | C25: m2 | D25: =49 -> 49 | F25: =IF(OR(AND(D25="Prov",E25="Sum"),(E25="PC Sum")),". . . . . . . . .00",IF(ISERR(D25*E25),"",IF(D25*E25=0,"",ROUND(D25*E25,2))))
A27: 2.1.2.3 | B27: T & G ceilings from timber boards | C27: m2 | D27: 280 | F27: =IF(OR(AND(D27="Prov",E27="Sum"),(E27="PC Sum")),". . . . . . . . .00",IF(ISERR(D27*E27),"",IF(D27*E27=0,"",ROUND(D27*E27,2))))
A29: 2.1.2.4 | B29: Suspended ceilings | C29: m2 | D29: 9 | F29: =IF(OR(AND(D29="Prov",E29="Sum"),(E29="PC Sum")),". . . . . . . . .00",IF(ISERR(D29*E29),"",IF(D29*E29=0,"",ROUND(D29*E29,2))))
A31: 2.1.2.5 | B31: Steel rainwater gutters and downpipes including brackets | C31: m | D31: =45+22+56+205 -> 328 | F31: =IF(OR(AND(D31="Prov",E31="Sum"),(E31="PC Sum")),". . . . . . . . .00",IF(ISERR(D31*E31),"",IF(D31*E31=0,"",ROUND(D31*E31,2))))
A33: 2.1.2.6 | B33: 400 x 250mm deep steel rainwater box gutter | C33: m | D33: 22 | F33: =IF(OR(AND(D33="Prov",E33="Sum"),(E33="PC Sum")),". . . . . . . . .00",IF(ISERR(D33*E33),"",IF(D33*E33=0,"",ROUND(D33*E33,2))))
A35: 2.1.2.7 | B35: Timber beams and supports | C35: m | D35: 550 | F35: =IF(OR(AND(D35="Prov",E35="Sum"),(E35="PC Sum")),". . . . . . . . .00",IF(ISERR(D35*E35),"",IF(D35*E35=0,"",ROUND(D35*E35,2))))
A37: 2.1.2.8 | B37: Fibre-cement fascias and barge boards | C37: m | D37: 30 | F37: =IF(OR(AND(D37="Prov",E37="Sum"),(E37="PC Sum")),". . . . . . . . .00",IF(ISERR(D37*E37),"",IF(D37*E37=0,"",ROUND(D37*E37,2))))
F38: =IF(OR(AND(D38="Prov",E38="Sum"),(E38="PC Sum")),". . . . . . . . .00",IF(ISERR(D38*E38),"",IF(D38*E38=0,"",ROUND(D38*E38,2))))
A39: 2.1.2.9 | B39: Steel roof sheets including ridge capping from steel purlins | C39: m2 | D39: 400 | F39: =IF(OR(AND(D39="Prov",E39="Sum"),(E39="PC Sum")),". . . . . . . . .00",IF(ISERR(D39*E39),"",IF(D39*E39=0,"",ROUND(D39*E39,2))))
F41: =IF(OR(AND(D41="Prov",E41="Sum"),(E41="PC Sum")),". . . . . . . . .00",IF(ISERR(D41*E41),"",IF(D41*E41=0,"",ROUND(D41*E41,2))))
B43: Total Carried Forward
B46: Total Brought Forward
F48: =IF(OR(AND(D48="Prov",E48="Sum"),(E48="PC Sum")),". . . . . . . . .00",IF(ISERR(D48*E48),"",IF(D48*E48=0,"",ROUND(D48*E48,2))))
A49: 2.1.3 | B49: Taking out and removing doors, windows, etc. from brickwork to be demolished | F49: =IF(OR(AND(D49="Prov",E49="Sum"),(E49="PC Sum")),". . . . . . . . .00",IF(ISERR(D49*E49),"",IF(D49*E49=0,"",ROUND(D49*E49,2))))
A51: 2.1.3.1 | B51: Steel double door frame size 1 800 x 2 100mm high | C51: No | D51: 1 | F51: =IF(OR(AND(D51="Prov",E51="Sum"),(E51="PC Sum")),". . . . . . . . .00",IF(ISERR(D51*E51),"",IF(D51*E51=0,"",ROUND(D51*E51,2))))
A53: 2.1.3.2 | B53: Steel double door frame and timber door size 1 800 x 2 100mm high | C53: No | D53: 2 | F53: =IF(OR(AND(D53="Prov",E53="Sum"),(E53="PC Sum")),". . . . . . . . .00",IF(ISERR(D53*E53),"",IF(D53*E53=0,"",ROUND(D53*E53,2))))
F54: =IF(OR(AND(D54="Prov",E54="Sum"),(E54="PC Sum")),". . . . . . . . .00",IF(ISERR(D54*E54),"",IF(D54*E54=0,"",ROUND(D54*E54,2))))
A55: 2.1.3.3 | B55: Timber double door frame and timber door size 2 350 x 2 100mm high | C55: No | D55: 1 | F55: =IF(OR(AND(D55="Prov",E55="Sum"),(E55="PC Sum")),". . . . . . . . .00",IF(ISERR(D55*E55),"",IF(D55*E55=0,"",ROUND(D55*E55,2))))
A57: 2.1.3.4 | B57: Roller door size 2400 x 2500mm high | C57: No | D57: 1 | F57: =IF(OR(AND(D57="Prov",E57="Sum"),(E57="PC Sum")),". . . . . . . . .00",IF(ISERR(D57*E57),"",IF(D57*E57=0,"",ROUND(D57*E57,2))))
...

Sheet PS
A2: ='Building Works'!A1 -> NATIONAL ZOOLOGICAL GARDENS OF SOUTH AFRICA - PRETORIA
A3: ='Building Works'!A2 -> REPTILE PARK - REPAIR AND RENOVATIONS
A4: SCHEDULE 3: PROVISIONAL SUMS
A6: ITEM | B6: PAYMENT | C6: DESCRIPTION | D6: UNIT | E6: QTY | F6: RATE | G6: AMOUNT
A7: NO | B7: CLAUSE
C9: SELECTED SUB-CONTRACTOR WORKS
C11: AIR-CONDITIONING INSTALLATION
A13: 3.1 | C13: Provide the sum of R150 000.00 (One Hundred and Fifty Thousand Rands) for Air-conditioning Installation complete including issuing of certificate of compliance | D13: Item | E13: 1 | F13: 150000 | G13: =E13*F13 -> 150000
A15: 3.2 | C15: Allow for profit | D15: % | F15: =F13 -> 150000 | G15: =IF(OR(AND(E15="Prov",F15="Sum"),(F15="PC Sum")),". . . . . . . . .00",IF(ISERR(E15*F15),"",IF(E15*F15=0,"",ROUND(E15*F15,2))))
G16: =IF(OR(AND(E16="Prov",F16="Sum"),(F16="PC Sum")),". . . . . . . . .00",IF(ISERR(E16*F16),"",IF(E16*F16=0,"",ROUND(E16*F16,2))))
A17: 3.3 | C17: Allow for attendance | D17: % | F17: =F15 -> 150000 | G17: =IF(OR(AND(E17="Prov",F17="Sum"),(F17="PC Sum")),". . . . . . . . .00",IF(ISERR(E17*F17),"",IF(E17*F17=0,"",ROUND(E17*F17,2))))
C19: SIGNAGE INSTALLATION
A21: 3.4 | C21: Provide the sum of R10,000.00 (Ten Thousand Rands) for taking out and replacement of signage | D21: Item | E21: 1 | F21: 10000 | G21: =E21*F21 -> 10000
A23: 3.5 | C23: Allow for profit | D23: % | F23: =F21 -> 10000 | G23: =IF(OR(AND(E23="Prov",F23="Sum"),(F23="PC Sum")),". . . . . . . . .00",IF(ISERR(E23*F23),"",IF(E23*F23=0,"",ROUND(E23*F23,2))))
G24: =IF(OR(AND(E24="Prov",F24="Sum"),(F24="PC Sum")),". . . . . . . . .00",IF(ISERR(E24*F24),"",IF(E24*F24=0,"",ROUND(E24*F24,2))))
A25: 3.6 | C25: Allow for attendance | D25: % | F25: =F23 -> 10000 | G25: =IF(OR(AND(E25="Prov",F25="Sum"),(F25="PC Sum")),". . . . . . . . .00",IF(ISERR(E25*F25),"",IF(E25*F25=0,"",ROUND(E25*F25,2))))
G27: =IF(OR(AND(E27="Prov",F27="Sum"),(F27="PC Sum")),". . . . . . . . .00",IF(ISERR(E27*F27),"",IF(E27*F27=0,"",ROUND(E27*F27,2))))
G28: =IF(OR(AND(E28="Prov",F28="Sum"),(F28="PC Sum")),". . . . . . . . .00",IF(ISERR(E28*F28),"",IF(E28*F28=0,"",ROUND(E28*F28,2))))
G29: =IF(OR(AND(E29="Prov",F29="Sum"),(F29="PC Sum")),". . . . . . . . .00",IF(ISERR(E29*F29),"",IF(E29*F29=0,"",ROUND(E29*F29,2))))
G53: =IF(OR(AND(E53="Prov",F53="Sum"),(F53="PC Sum")),". . . . . . . . .00",IF(ISERR(E53*F53),"",IF(E53*F53=0,"",ROUND(E53*F53,2))))
G54: =IF(OR(AND(E54="Prov",F54="Sum"),(F54="PC Sum")),". . . . . . . . .00",IF(ISERR(E54*F54),"",IF(E54*F54=0,"",ROUND(E54*F54,2))))
A68: SUB-TOTAL CARRIED FORWARD TO SUMMARY
