Workbook

Sheet BOQ
A1: COUNTER | B1: ISC | C1: SECTION | D1: BILL | E1: PAGE NO | F1: ITEM NO | G1: DOC REF | H1: PAY REF | L1: QUANTITY | M1: RATE | N1: AMOUNT
A3: 3 | B3: 12549 | C3: 0 | D3: 0 | G3: 1 | J3: THE REHABILITATION OF THE CURATORS HOUSE AT THE THOHOYANDOU NATIONAL BOTANICAL GARDEN IN THOHOYANDOU
A5: 12 | B5: 12587 | C5: 0 | D5: 0 | G5: 2 | J5: BILL OF QUANTITIES
A7: 13 | B7: 12588 | C7: 0 | D7: 0 | G7: 2 | J7: PRICING INSTRUCTIONS
A9: 14 | B9: 12589 | C9: 0 | D9: 0 | G9: 2 | J9: 1. Measuring System
A11: 15 | B11: 12590 | C11: 0 | D11: 0 | G11: 2 | J11: 1.1) The Bills of Quantities have been drawn up in accordance with the Standard System of Measuring Building Work (as amended) published and issued by the Association of South African Quantity Surveyors (Seventh Edition), 2015.
A13: 16 | B13: 12591 | C13: 0 | D13: 0 | G13: 2 | J13: 1.2) The quantities are provisional and will be re-measured upon completion of the works. The Contractor shall not use these quantities for ordering of materials. The Contractor must immediately notify the Quantity Surveyor if discrepancies are found between the quantities and/or descriptions in these Bills of Quantities and the Contractor's quantities measured from construction drawings and specifications.
A15: 17 | B15: 12592 | C15: 0 | D15: 0 | G15: 2 | J15: 2. General Pricing Notes
A17: 18 | B17: 12593 | C17: 0 | D17: 0 | G17: 2 | J17: 2.1) For the purposes of this Bill of Quantities, the following words shall have the meanings hereby assigned to them: Unit : The unit of measurement for each item of work as defined in the Standardized, Project or Particular Specifications Quantity : The number of units of work for each item Rate : The payment per unit of work at each which the Tenderer quotes to do the work Amount : The quantity of an item multiplied by the quoted rate of the (same) item Sum : An amount quoted for an item, the extent of which is described in the Bill of Quantities, the Specifications or elsewhere, but of which the quantity of work is not measured in units
A19: 19 | B19: 12594 | C19: 0 | D19: 0 | G19: 3 | J19: 2.2) The units of measurements indicated in the bill of Quantities are metric units. The following abbreviations may appear in the Bill of Quantities: mm = millimetre m = metre km = kilometre m"² = square metre ha = hectare m"³ = cubic metre m"³-km = cubic metre-kilometre No. = number Sum = Lump Sum l = litre kW = kilowatt kN = kilonewton kg = kilogram kPa = kilopascal t = tonne (1000kg) % = percent MN = meganewton MN-m = meganewton-metre MPa = megapascal PC Sum = Prime Cost Sum (Cost of material supplied excluding vat, profit and labour, but including transport and delivery costs) Prov Sum = Provisional Sum
A21: 20 | B21: 12595 | C21: 0 | D21: 0 | G21: 3 | J21: 2.3) The short descriptions of the items of payment given in the bill of quantities are only for the purposes of identifying the items. Detail regarding the extent of the work entailed under each item is provided in the Scope.
A23: 21 | B23: 12596 | C23: 0 | D23: 0 | G23: 3 | J23: 2.4) Unless otherwise stated, items are measured net in accordance with the drawings and no allowance is made for waste.
A25: 22 | B25: 12597 | C25: 0 | D25: 0 | G25: 3 | J25: 2.5) The prices and rates to be inserted in the Bills of Quantities are to be the full inclusive for the work described under the several items. Such prices and rates shall cover all costs and expenses that may be required in and for the execution of the work described, and shall cover the cost of all general risks, liabilities and obligations set forth or implied in the documents on which the quotation is based, as well as overhead charges and profit. Reasonable prices shall be inserted as these will be used as a basis for assessment of payment for additional work that may have to be carried out.
... A69: 44 | B69: 12620 | C69: 0 | D69: 0 | G69: 5 | J69: 7.1) Reference to any particular trademark, name, patent, design, type, specific origin or producer is purely to establish a standard for requirements. Products or articles of an equivalent standard may be substituted, subject to the Principal Agent"s approval.
A71: 45 | B71: 13344 | C71: 1 | D71: 1 | E71: 6 | G71: 6 | J71: SECTION 1
A73: 46 | B73: 13345 | C73: 1 | D73: 1 | E73: 6 | G73: 6 | J73: BILL NO. 1
A75: 47 | B75: 13347 | C75: 1 | D75: 1 | E75: 6 | G75: 6 | J75: PRELIMINARIES
A77: 48 | B77: 13348 | C77: 1 | D77: 1 | E77: 6 | G77: 6 | J77: BUILDING AGREEMENT AND PRELIMINARIES
A79: 49 | B79: 13349 | C79: 1 | D79: 1 | E79: 6 | G79: 6 | J79: The Conditions of Contract are the JBCC Series 2000 Principal Building Agreement (Edition 5.0 (reprint 1) of July 2007), inclusive of the Contract Data Addenda EC and CE, prepared by the Joint Building Contracts Committee Inc. amended as hereinafter described
A81: 50 | B81: 13350 | C81: 1 | D81: 1 | E81: 6 | G81: 6 | J81: The ASAQS Preliminaries (August 2010 edition) published by the Association of South African Quantity Surveyors for use with the said JBCC Principal Building Agreement inclusive of the Contract Data Addenda EC and CE shall be deemed to be incorporated hereinafter
A83: 51 | B83: 13351 | C83: 1 | D83: 1 | E83: 6 | G83: 6 | J83: The contractor is deemed to have referred to the abovementioned documents for the full intent and meaning of each clause. In addition the contractor is deemed to have referred to the amendments to the general conditions of contract as well as the specific conditions of contract
A85: 52 | B85: 13352 | C85: 1 | D85: 1 | E85: 6 | G85: 6 | J85: These clauses are hereinafter referred to by clause number and heading only. Where standard clauses or alternatives are not entirely applicable to this agreement such modifications, corrections or supplements as will apply are given under each relevant clause heading and such modifications, corrections or supplements shall take precedence notwithstanding anything contrary contained in the abovementioned documents
A87: 53 | B87: 13353 | C87: 1 | D87: 1 | E87: 7 | G87: 7 | J87: Where modifications or amendments as described are made, such modification and/or amendments shall supersede any conflicting provision in the relevant clauses of the Preliminaries or the Principal Building Agreement and the Tenderer shall make due allowance for whatever costs and charges he may consider necessary for the carrying out and observance of the provisions of the clauses as modified and/or amended.
A89: 54 | B89: 13354 | C89: 1 | D89: 1 | E89: 7 | G89: 7 | J89: Where any item is not relevant to this specific agreement such item is marked not applicable (N/A)
A91: 55 | B91: 13355 | C91: 1 | D91: 1 | E91: 7 | G91: 7 | J91: PREAMBLES FOR TRADES
A93: 56 | B93: 13356 | C93: 1 | D93: 1 | E93: 7 | G93: 7 | J93: Tenderers are referred to the General Preambles for Trades (2017 Edition as recommended and published by the Association of South African Quantity Surveyors) and to the Supplementary Preambles to all Trades. These preambles shall be deemed to be incorporated in these bills of quantities and no claims arising from brevity of description of items fully described in the said Model Preambles will be entertained. The Tenderer must study the General Preambles and the Supplementary Preambles to all Trades before pricing this document and the quotation sum shall cover all costs and charges that may be considered necessary by the tenderer for the carrying out and observance of the provisions of the General Preambles and the Supplementary Preambles to all Trades.
... A115: 67 | B115: 13368 | C115: 1 | D115: 1 | E115: 9 | G115: 9 | J115: Definitions (A1)
A117: 68 | B117: 13369 | C117: 1 | D117: 1 | E117: 9 | F117: 1 | G117: 9.1 | J117: Clause 1.0 - Definitions and interpretation Replace the definitions with the following wording: AGREEMENT: The agreement arising from the signing of the Form of Offer and Acceptance by the parties | K117: CONT | L117: 0
A119: 69 | B119: 13370 | C119: 1 | D119: 1 | E119: 9 | G119: 9 | J119: BILLS OF QUANTITIES: The document drawn up in accordance with the measuring system as stated in the Pricing Data. The contractor shall have priced the document to reflect the contract sum CONTRACT DOCUMENTS: The documents listed in the Form of Offer and Acceptance | K119: CONT | L119: 0
A121: 70 | B121: 13371 | C121: 1 | D121: 1 | E121: 9 | G121: 9 | J121: CONTRACT DRAWINGS: The drawings stated in the RFQ document upon which the accepted quotation or negotiated amount was based CONTRACT SUM: The total of prices inclusive of VAT as stated in the Form of Offer and Acceptance Add the following definitions: SCOPE OF WORK: The listed variables applicable to this agreement SITE INFORMATION: The listed variables applicable to this agreement F:............................. V:............................ T:............................ | K121: Item | L121: 1 | M121: 0 | N121: =ROUND(L121*M121,2) -> 0
A123: 71 | B123: 13372 | C123: 1 | D123: 1 | E123: 10 | G123: 10 | J123: Objective and preparation (A2 - A14)
A125: 72 | B125: 13373 | C125: 1 | D125: 1 | E125: 10 | F125: 2 | G125: 10.2 | J125: Clause 2.0 - Offer acceptance and performance obligations F:............................. V:............................ T:............................ | K125: Item | L125: 1 | N125: =ROUND(L125*M125,2) -> 0
A127: 73 | B127: 13374 | C127: 1 | D127: 1 | E127: 10 | F127: 3 | G127: 10.3 | J127: Clause 3.0 - Documents The contract drawings are issued with the RFQF:............................. V:............................ T:............................ | K127: Item | L127: 1 | N127: =ROUND(L127*M127,2) -> 0
A129: 74 | B129: 13375 | C129: 1 | D129: 1 | E129: 10 | F129: 4 | G129: 10.4 | J129: Clause 4.0 - Design responsibility F:............................. V:............................ T:............................ | K129: Item | L129: 1 | N129: =ROUND(L129*M129,2) -> 0
A131: 75 | B131: 13376 | C131: 1 | D131: 1 | E131: 10 | F131: 5 | G131: 10.5 | J131: Clause 5.0 - Employer's agents F:............................. V:............................ T:............................ | K131: Item | L131: 1 | N131: =ROUND(L131*M131,2) -> 0
A133: 76 | B133: 13377 | C133: 1 | D133: 1 | E133: 10 | F133: 6 | G133: 10.6 | J133: Clause 6.0 - Contractor's site representative F:............................. V:............................ T:............................ | K133: Item | L133: 1 | N133: =ROUND(L133*M133,2) -> 0
A135: 77 | B135: 13378 | C135: 1 | D135: 1 | E135: 11 | F135: 7 | G135: 11.7 | J135: Clause 7.0 - Compliance with laws and regulations Without limiting the generality of the provisions of clause 7.0, the contractor's attention is drawn to the provisions of the Construction Regulations, 2014 issued in terms of the Occupational Health and Safety Act, 1993. It is specifically stated that the employer shall prepare a documented health and safety specification for the works and that the employer shall ensure that the contractor has made provision for the cost of health and safety measures during the execution of the works. The contractor shall price opposite this item for compliance with the act and the regulations and the reasonable provisions of the aforementioned health and safety specifications. Contractor to provide a detailed breakdown of all costs for health and safety measures, as per the requirements within the Construction RegulationsF:............................. V:............................ T:............................ | K135: Item | L135: 1 | N135: =ROUND(L135*M135,2) -> 0
A137: 78 | B137: 13379 | C137: 1 | D137: 1 | E137: 11 | F137: 8 | G137: 11.8 | J137: Clause 8.0 - Works risk F:............................. V:............................ T:............................ | K137: Item | L137: 1 | N137: =ROUND(L137*M137,2) -> 0
A139: 79 | B139: 13380 | C139: 1 | D139: 1 | E139: 11 | F139: 9 | G139: 11.9 | J139: Clause 9.0 - Indemnities F:............................. V:............................ T:............................ | K139: Item | L139: 1 | N139: =ROUND(L139*M139,2) -> 0
A141: 80 | B141: 13381 | C141: 1 | D141: 1 | E141: 11 | F141: 10 | G141: 11.10 | J141: Clause 10.0 - General insurances F:........................... V:............................T:........................... | K141: Item | L141: 1 | N141: =ROUND(L141*M141,2) -> 0
...

Sheet Final Summary
B2: FINAL SUMMARY
A4: Section | C4: Page | E4: Amount
A5: No | C5: No
A7: 1 | B7: Preliminaries | C7: 38 | D7: R | E7: =BOQ!N1172 -> 0
A9: 2 | B9: Building Works | C9: 83 | D9: R | E9: =BOQ!N1174 -> 0
A11: 3 | B11: Provisional Sums | C11: 86 | D11: R | E11: =BOQ!N1176 -> 0
B13: SUB- TOTAL | D13: R | E13: =SUM(E7:E11) -> 0
B15: Services (Electrical) Amount brought forward from electrical BOQ | C15: 94 | D15: R | E15: =BOQ!N1180 -> 0
B17: Contingency | D17: R | E17: =BOQ!N1184 -> 30000 | F17: -
B20: SUB- TOTAL EXCLUDING VAT | D20: R | E20: =E13+E17 -> 30000
B22: ADD: VALUE ADDED TAX @15% | D22: R | E22: =E20*0.15 -> 4500
B42: Total including VAT carried to form of offer and acceptance | D42: R | E42: =E20+E22 -> 34500
