Workbook

Sheet Preliminaries
A1: ITEM NO | D1: QUANTITY | E1: RATE | F1: AMOUNT
B3: SECTION NO. 1 : PRELIMINARIES
B5: Bill No.1 : PRELIMINARIES
B7: PRELIMINARIES
B9: NOTES:
B11: BUILDING AGREEMENT AND PRELIMINARIES
B13: The JBCC Series 2000 Principal Building Agreement (July 2007 Edition 5.0 Reprint 1) prepared by the Joint Building Contracts Committee shall be the applicable building agreement, amended as hereinafter described
B15: The JBCC Principal Building Agreement Contract Data EC & CE form an integral part of this agreement.
B17: The ASAQS Preliminaries (November 2007 Edition) published by the Association of South African Quantity Surveyors for use with the JBCC Principal Building Agreement shall be deemed to be incorporated in these bills of quantities, amended as hereinafter described.
B19: Contractors are referred to the abovementioned documents for the full intent and meaning of each clause
B21: The clauses in the abovementioned documents are hereinafter referred to by clause number and heading only. Where standard clauses or alternatives are not entirely applicable to this contract such modifications, corrections or supplements as will apply are given under each relevant clause heading and such modifications, corrections or supplements shall take precedence notwithstanding anything contrary contained in the abovementioned documents.
B23: Where any item is not relevant to this specific agreement such item is marked N/A (signifying not applicable).
B25: PREAMBLES FOR TRADES
... B47: Definitions
A49: 1 | B49: Clause 1.0 - Definitions and interpretation | C49: Item | D49: 1
B51: Objective and preparations
A53: 2 | B53: Clause 2.0 - Offer acceptance and performance obligations | C53: Item | D53: 1
A55: 3 | B55: Clause 3.0 - Documents | C55: Item | D55: 1
A57: 4 | B57: Clause 4.0 - Design responsibility | C57: Item | D57: 1
A59: 5 | B59: Clause 5.0 - Employer's agents | C59: Item | D59: 1
A61: 6 | B61: Clause 6.0 - Contractor's site representative | C61: Item | D61: 1
A63: 7 | B63: Clause 7.0 - Compliance with laws and regulations. | C63: Item | D63: 1
A65: 8 | B65: Clause 7.2 - Health and Safety and Covid 19
B66: Without limiting the generality of the provisions of clause 7.0, the contractor's attention is drawn to the provisions of Construction Regulations, 2014 issued in terms of the Occupational Health and Safety Act, 1993. It is specifically stated that the employer shall prepare a documented health and safety specification for the works and Covid 19 specification (refer to Volume 1 of 2 C3.3 for a copy of the relevant specifications and baseline risk assessment) and that the Employer shall ensure that the Contractor has made provision for the cost of health and safety measures during the execution of the works. The contractor shall price opposite this item for compliance with the act and the regulations and the reasonable provisions of the aforementioned health and safety and Covid 19 specification , excluding the items priced and included in Section 4 Occupational Health and Safety and Covid 19 of these Bills of Quantities. | C66: Item | D66: 1
A68: 9 | B68: Clause 7.3 Construction Environmental Management Plan
B69: The Construction Environmental Management Plan (CEMP) incorporates specifications derived from recommendations in the SEA, ELIDZ Rezoning Environmental Impact Assessment (EIA) and comments Report. Department of Economic Affairs, Environment and Tourism's Conditions of Approval for the rezoning EIA, together with specifications for good 'environmental practice' for construction work. The purpose of the CEMP is to translate the recommendations of the SEA and the Rezoning EIA into a contractual environmental management plan which will be strictly applied during the construction of the works. A copy of the CEMP is attached (See C3.4 in Volume 1 of 2 of this document) and tenderers are to famliarize themselves with the provisions contained therein and allow for compliance with the same. | C69: Item | D69: 1
A71: 10 | B71: Clause 8.0 - Works risk | C71: Item | D71: 1
A73: 11 | B73: Clause 9.0 - Indemnities | C73: Item | D73: 1
A75: 12 | B75: Clause 10.0 - Insurances | C75: Item | D75: 1
A77: 13 | B77: Clause 11.0 - Special Insurances | C77: Item | D77: 1
A79: 14 | B79: Clause 12.0 - Effecting Insurances | C79: Item | D79: 1
A81: 15 | B81: Clause 13.0 - Assignment | C81: Item | D81: 1
A83: 16 | B83: Clause 14.0 - Security | C83: Item | D83: 1
B85: Execution
A87: 17 | B87: Clause 15.0 - Preparation for and execution of the works | C87: Item | D87: 1
A89: 18 | B89: Clause 16.0 - Site and access | C89: Item | D89: 1
A91: 19 | B91: Clause 17.0 - Contract instructions | C91: Item | D91: 1
A93: 20 | B93: Clause 18.0 - Setting out of the works
B94: The contractor shall notify the principal agent if any encroachments of adjoining foundations, buildings, structures, pavements, boundaries, etc. exist in order that the necessary arrangements may be made for the rectification of any such encroachments. | C94: Item | D94: 1
A96: 21 | B96: Clause 19.0 - Temporary works and plant Substitute clause 19.1.1 with the following:
...

Sheet Building works
A1: ITEM NO | D1: QUANTITY | E1: RATE | F1: AMOUNT
B3: SECTION NO. 2 : BUILDING WORKS
B5: MANOR HOUSE, ANNEX BUILDING 01 MANOR & ANNEX BUILDING 02 MANOR
B7: BILL NO. 1
B9: ALTERATIONS
B11: View site
B13: Before submitting his tender the tenderer shall visit the site and satisfy himself as to the nature and extent of the work to be done and the value of the materials salvageable from the alterations. No claim for any variations of the contract sum in respect of the nature and extent of the work or of inferior or damaged materials will be entertained
B14: Explosives
B16: No explosives whatsoever may be used for alteration purposes unless otherwise stated
B18: General
B20: The contractor shall carry out the whole of the works with as little mess and noise as possible and with a minimum of disturbance to tenants in the building and to adjoining premises and their tenants. He shall provide proper protection and provide, erect and remove when directed, any temporary tarpaulins that may be necessary during the progress of the works, all to the satisfaction of the principal agent
B21: Doors, fanlights, windows, fittings, frames, linings, etc which are to remain the property of the employer shall be carefully taken out, temporarily stored, transported over a distance of approximately 5km to store and handed over to the employer
B23: Doors, fanlights, windows, fittings, frames, linings, etc which are to be re-used shall be thoroughly overhauled before refixing including taking off, easing and rehanging, cramping up, re-wedging as required and making good cramps, dowels, etc, and oiling, adjusting and repairing ironmongery as necessary, replacing any glass damaged in removal or subsequently and stopping up all nail and screw holes with tinted plastic wood to match timber, unless otherwise described. Re-painting or re-varnishing is given separately
... B34: Breaking down and removing brickwork etc
A36: 1 | B36: Half brick walls | C36: m2 | D36: 12 | F36: =D36*E36 -> 0
A38: 2 | B38: One brick walls | C38: m2 | D38: 47 | F38: =D38*E38 -> 0
B40: Taking out and removing doors, windows, etc from brickwork to be demolished
A42: 3 | B42: Timber single door and steel frame not exceeding 2,5m² | C42: No | D42: 4 | F42: =D42*E42 -> 0
A44: 4 | B44: Timber double door and steel frame exceeding 2,5m² and not exceeding 5m² | C44: No | D44: 2 | F44: =D44*E44 -> 0
A46: 5 | B46: Timber double door and steel frame exceeding 2,5m² and not exceeding 5m² | C46: No | D46: 1 | F46: =D46*E46 -> 0
B48: Taking down and removing roofs, floors, panelling, ceilings, partitions, etc
A50: 6 | B50: Remove existing asbestos roof slates and re-place with Everite Nutec cloud grey plain mitred (code: 020-903) roof slates, OR SIMILAR APPROVED (elsewhere measured), manufactured in accordance with sans 803:2005 (All in accordance with the Occupational Health and Safety Act (85/1993): Asbestos Abatement Regulations, 2020). | C50: m2 | D50: 423 | F50: =D50*E50 -> 0
A52: 7 | B52: Gypsum plasterboard ceilings, including timber brandering, cornices, etc | C52: m2 | D52: 361 | F52: =D52*E52 -> 0
B54: Taking out and removing sundry joinery work, fittings, etc
A56: 8 | B56: Timber skirtings | C56: m | D56: 19 | F56: =D56*E56 -> 0
B58: Taking up and removing wood block floor coverings, vinyl floor coverings, carpets, etc and preparing screeds for new floor coverings
A60: 9 | B60: Carpet tile floor covering | C60: m2 | D60: 105 | F60: =D60*E60 -> 0
B62: Hacking up/off and removing granolithic, screeds, plaster, etc from concrete or brickwork and preparing surfaces for new screed, plaster, tile finishes, etc
A64: 10 | B64: Internal plaster from walls and columns | C64: m2 | D64: 99 | F64: =D64*E64 -> 0
A66: 11 | B66: External plaster from walls, columns and beams | C66: m2 | D66: 99 | F66: =D66*E66 -> 0
B68: Hacking up/off and removing quarry tiles including removing mortar bed or adhesive from concrete or brickwork and preparing surfaces for new screed, plaster, tile finish, etc
A70: 12 | B70: Tiles to floors | C70: m2 | D70: 153 | F70: =D70*E70 -> 0
B72: Taking out and removing sanitary fittings, etc, including disconnecting from pipes, traps, etc and making good floor and wall finishes (making good tiling and paintwork elsewhere)
A74: 13 | B74: Vitreous china wash hand basin | C74: No | D74: 1 | F74: =D74*E74 -> 0
A76: 14 | B76: Vitreous china WC pan with flush valve and flush pipe | C76: No | D76: 1 | F76: =D76*E76 -> 0
A78: 15 | B78: Vitreous china wall hung urinal with flush valve and flush pipe | C78: No | D78: 1 | F78: =D78*E78 -> 0
B80: Taking out/off and removing glass and mirrors
A82: 16 | B82: Glass from timber windows with beads, including cleaning out rebates and preparing for new glass | C82: m2 | D82: 6 | F82: =D82*E82 -> 0
A84: 17 | B84: Glass from steel windows, including cleaning out rebates and preparing for new glass | C84: m2 | D84: 6 | F84: =D84*E84 -> 0
B86: MAKING GOOD OF FINISHES ETC
...

Sheet Electrical Works
A1: SANBI guest house
A3: Electrictrical Installation Bill of Quantity
A5: ITEM | B5: DESCRIPTION | C5: UNIT | D5: QTY | E5: RATE | F5: PRICE
B7: BILL No. 1 - CONTRACT CONDITIONS
A9: 1.1 | B9: COMPLIANCE WITH CONDITIONS
B11: Nett price for compliance with the Conditions of Contract, the Special Conditions of Contract, various specifications, which costs are not specifically covered elsewhere or by unit rates and quantities. No additional amount of scheduled items shall be entertained. | C11: Sum | D11: 1 | F11: =+E11*D11 -> 0
A13: 1.2 | B13: SURETY
B15: Allow for the provision of a performance guarantee for the contract value - refer to the main contract preliminaries attached | C15: Sum | D15: 1 | F15: =+E15*D15 -> 0
A17: 1.3 | B17: SITE ESTABLISHMENT
B19: Allow for the electrical site establishment, all associated services and for storage of plant, materials and equipment including protection thereof | C19: Sum | D19: 1 | F19: =+E19*D19 -> 0
A21: 1.4 | B21: TRANSPORT
B23: Provide and arrange for transport and off loading of all electrical material and equipment to site as well as workmen and staff for 18 Months | C23: Sum | D23: 1 | F23: =+E23*D23 -> 0
A25: 1.5 | B25: COMMISSIONING AND TESTING
B27: Supply all test equipment and labour for testing, commissioning and adjustment for all the sections of the installation | C27: Sum | D27: 1 | F27: =+E27*D27 -> 0
A29: 1.6 | B29: DRAWINGS
B31: Making reference, to other relevant drawings e.g. Civil, Structural, Architectural existing services etc | C31: Sum | D31: 1 | F31: =+E31*D31 -> 0
A33: 1.7 | B33: AS BUILT DRAWINGS
B35: Compilation of as built drawings for the complete electrical installation
C36: Sum | D36: 1 | F36: =+E36*D36 -> 0
A37: 1.8 | B37: EXTRACTS FROM THE PRINCIPAL CONTRACTOR
B39: Allowance for any costs associated with the requirements of the Principal Contract preliminaries which may affect the selected sub contractor | C39: Sum | D39: 1 | F39: =+E39*D39 -> 0
A41: 1.9
B43: Allow for a maintenance period, material and workmanship but tear and normal maintenance excluded | C43: Sum | D43: 1 | F43: =+E43*D43 -> 0
A45: 1.10 | B45: GUARANTEE PERIOD
B47: Allow for a guarantee period on all the electrical and electronic equipment but items such as lamps excluded | C47: Sum | D47: 1 | F47: =+E47*D47 -> 0
B53: SUB - TOTAL CARRIED FORWARD TO NEXT PAGE | F53: =SUM(F11:F52) -> 0
A56: ITEM | B56: DESCRIPTION | C56: UNIT | D56: QTY | E56: RATE | F56: PRICE
B58: Sub-total brought forward | F58: =+F53 -> 0
A60: 1.11 | B60: ADDITIONAL
B62: Allow for the following additional item(s):
A64: 1.11.1 | B64: Any time related items | C64: Sum | D64: 1 | F64: =+E64*D64 -> 0
A66: 1.11.2 | B66: Temporary electrical connection and usage | C66: Sum | D66: 1 | F66: =+E66*D66 -> 0
A69: 1.12 | B69: STRIPING EXISTING INSTALLATION
B71: Allow a sum amount for the stripping of the electrical installation, liason with the Client, handing over of all equipment to the Client, arrange for switching off of power supplies and make save of outlet points, etc | C71: Sum | D71: 1 | F71: =+E71*D71 -> 0
A73: 1.13 | B73: OTHER NECESSARY WORKS
B75: All other works necessary to complete the installation in a satisfactory manner, and in accordance with the drawings, specification, SABS Code of Practice, the Local Authorities requirements, and to the Engineers satisfaction to include for items specified or shown but not itemised in this bill | C75: Sum | D75: 1 | F75: =+E75*D75 -> 0
B81: CARRIED OVER TO SUMMARY EXCLUDING VAT | F81: =SUM(F58:F76) -> 0
A82: ITEM | B82: DESCRIPTION | C82: UNIT | D82: QTY | E82: RATE | F82: PRICE
B83: Bill No. 7 Manor house
A85: 1 | B85: DISTRIBUTION BOARDS
...

Sheet Manor house Mechanical
A1: KIRSTENBOSCH NATIONAL BOTANICAL GARDEN LODGES
A2: HEATING, VENTILATION AND AIR CONDITIONING
A3: Item | B3: Description | C3: Unit | D3: Qty | E3: Unit Cost | F3: Total Cost
B5: MANOR HOUSE
B7: HEATING, VENTILATION, AND AIR CONDITIONING
B9: Design, manufacture, works testing, supply and deliver to site, moving into position, erection, connecting up, site testing, witness testing, providing to insurance inspectors, demonstrating to the Employer, commissioning and maintenance of the complete mechanical systems and equipment as shown on the drawings.
A11: 1 | B11: Manor House
A13: 1.1 | B13: Main House
A15: 1.1.1 | B15: Air Conditioning Units - Split Units
A17: 1.1.1.1 | B17: 2.8 kW Cooling and 3.2 kW Heating Capacity Highwall Split Unit Inverter Type R410A.
B18: Supply | C18: No | D18: 2 | F18: =D18*E18 -> 0
B19: Install | C19: No | D19: 2 | F19: =D19*E19 -> 0
A21: 1.1.1.2 | B21: 3.6kW Cooling and 4.0 kW Heating Capacity Highwall Split Unit Inverter Type R410A.
B22: Supply | C22: No | D22: 1 | F22: =D22*E22 -> 0
B23: Install | C23: No | D23: 1 | F23: =D23*E23 -> 0
A25: 1.1.1.3 | B25: 7.1 kW Cooling and 8.0 kW Heating Capacity Highwall Split Unit Inverter Type R410A.
B26: Supply | C26: No | D26: 2 | F26: =D26*E26 -> 0
B27: Install | C27: No | D27: 2 | F27: =D27*E27 -> 0
A29: 1.1.2 | B29: Refrigerant Pipes R410A
B31: * Supply and Install insulated Refrigerant R410A Pipes
A32: 1.1.2.1 | B32: Diameter 6mm copper pipe | C32: m | D32: 42 | F32: =D32*E32 -> 0
A33: 1.1.2.2 | B33: Diameter 9mm copper pipe | C33: m | D33: 40 | F33: =D33*E33 -> 0
A34: 1.1.2.3 | B34: Copper pipes Bends, Reducers etc. | C34: Item | D34: 1 | F34: =D34*E34 -> 0
A35: 1.1.2.4 | B35: Cable trays to suit the installation | C35: Item | D35: 1 | F35: =D35*E35 -> 0
A37: 1.1.3 | B37: Condensate Drain Pipe
A39: 1.1.3.1 | B39: Diameter 25mm condensate drain pipe to the nearest drain | C39: m | D39: 50 | F39: =D39*E39 -> 0
A41: 1.1.5 | B41: Electrical Works
A43: 1.5.1 | B43: Electrical installation & wiring etc, complete for Split units including local starter/isolator switch | C43: Item | D43: 5 | F43: =D43*E43 -> 0
A45: 1.1.6 | B45: Ablution Extration Fans
A47: 1.1.6.1 | B47: Extraction fan
A49: 1.1.6.1.1 | B49: 336m3/hr wall mounted extraction fan linked to the lights.
B50: Supply | C50: No | D50: 7 | F50: =D50*E50 -> 0
B51: Install | C51: No | D51: 7 | F51: =D51*E51 -> 0
A53: 1.1.6.1.2 | B53: 850m3/hr wall mounted extraction fan linked to the lights.
B54: Supply | C54: No | D54: 1 | F54: =D54*E54 -> 0
B55: Install | C55: No | D55: 1 | F55: =D55*E55 -> 0
A57: 1.1.6.1.3 | B57: 336m3/hr ceiling mounted extraction fan linked to the lights.
B58: Supply | C58: No | D58: 2 | F58: =D58*E58 -> 0
B59: Install | C59: No | D59: 2 | F59: =D59*E59 -> 0
A61: 1.1.6.1.4 | B61: 400x300 Door Grill
...

Sheet Provisional sums
A1: ITEM NO | D1: QUANTITY | E1: RATE | F1: AMOUNT
B3: SECTION NO. 3 : PROVISIONAL SUMS
B5: BILL NO 1
B7: PROVISIONAL SUMS
B9: Provisional sums are net. Provisional sums are for material and equipment supplied and installed complete by firms of specialists
B11: Profit
B13: Where stated, the contractor may allow for profit if required
B15: PROVISIONAL SUMS
B17: Built-in cupboards etc
A19: 62 | B19: Provide the sum of Fifty-five thousand rands (R55000.00) for built-in cupboards and joinery | C19: Item | D19: 1 | E19: 55000
A21: 63 | B21: Profit | C21: Item | D21: =F19 -> 0
A23: 64 | B23: Attendance | C23: Item | D23: =F19 -> 0
B25: Signage
A27: 83 | B27: Provide the sum of Ten thousand rands (R10000.00) for signage | C27: Item | D27: 1 | E27: 10000
A29: 84 | B29: Profit | C29: Item | D29: =F27 -> 0
A31: 85 | B31: Attendance | C31: Item | D31: =F27 -> 0
B33: Balustrades etc
A35: 92 | B35: Provide the sum of Sixty thousand rands (R60000.00) for balustrades, handrails, etc | C35: Item | D35: 1 | E35: 60000
A37: 93 | B37: Profit | C37: Item | D37: =F35 -> 0
A39: 94 | B39: Attendance | C39: Item | D39: =F35 -> 0
B41: Furniture
A43: 137 | B43: Provide the sum of Four-hundred thousand rands (R400000.00) for mall furniture | C43: Item | D43: 1 | E43: 400000
A45: 138 | B45: Profit | C45: Item | D45: =F43 -> 0
A47: 139 | B47: Attendance | C47: Item | D47: =F43 -> 0
B49: Artwork
A51: 149 | B51: Provide the sum of Thirty-five thousand rands (R35000.00) for artwork | C51: Item | D51: 1 | E51: 35000
A53: 150 | B53: Profit | C53: Item | D53: =F51 -> 0
A55: 151 | B55: Attendance | C55: Item | D55: =F51 -> 0
B57: Access control and building management services
A59: 176 | B59: Provide the sum of One-hundred and twenty thousand rands (R120000.00) for access control and building management services | C59: Item | D59: 1 | E59: 120000
A61: 177 | B61: Profit | C61: Item | D61: =F59 -> 0
A63: 178 | B63: Attendance | C63: Item | D63: =F59 -> 0
B65: Carried to final summary | E65: Cur | F65: =SUM(F15:F64) -> 0

Sheet Final summary
B1: SUMMARY
A3: 1 | B3: Preliminaries | C3: Page | F3: =Preliminaries!F410 -> 0
A5: 2 | B5: Manor house, Annex building 01 Manor & Annex building 02 Manor | C5: Page | F5: ='Building works'!F800 -> 0
A7: 3 | B7: Guest house 14 & Guest house 14 Annex | C7: Page | F7: ='Building works'!F1277 -> 0
A9: 4 | B9: Gate house 1, Gate house 2 & Gate house 3 | C9: Page | F9: ='Building works'!F1491 -> 0
A11: 21 | B11: Electrical work | C11: Page | F11: ='Electrical Works'!F275 -> 0
A13: 22 | B13: Mechanical work | C13: Page | F13: ='Manor house Mechanical'!F1072 -> 0
A15: 27 | B15: Provisional sums | C15: Page | F15: ='Provisional sums'!F65 -> 0
B17: Sub-total | E17: Cur | F17: =SUM(F3:F16) -> 0
B19: Contingency
B21: Allow ten percent (10%) of the above sub-total for contingencies to be used as directed. | C21: Item | D21: 0.1 | F21: =F17*D21 -> 0
B23: Sub-total | E23: Cur | F23: =SUM(F17:F22) -> 0
B25: Value Added Tax
B27: Allow fourteen per cent (14%) of the above sub-total for Value Added Tax | C27: Item | D27: 0.14 | F27: =F23*D27 -> 0
B30: Carried to form of tender | E30: Cur | F30: =SUM(F23:F29) -> 0
